BEGIN:VCALENDAR
VERSION:2.0
PRODID:Upper Dublin, PA Calendar Creator
METHOD:PUBLISH
BEGIN:VEVENT
DTSTAMP:20260120T131652
DTSTART:20260530T080000
DTEND:20260530T100000
SUMMARY:Shredding Event
DESCRIPTION:<p>3 box/bag limit per car.</p><p>UDT residents only -- valid ID required.</p>
X-ALT-DESC;FMTTYPE=text/html:<p>3 box/bag limit per car.</p><p>UDT residents only -- valid ID required.</p>
LOCATION:
CLASS:PUBLIC
END:VEVENT
END:VCALENDAR
