BEGIN:VCALENDAR
VERSION:2.0
PRODID:Upper Dublin, PA Calendar Creator
METHOD:PUBLISH
BEGIN:VEVENT
DTSTAMP:20260120T134601
DTSTART:20260527T000000
DTEND:20260527T235900
SUMMARY:No Yard Waste Collections (Moved to Saturday)
DESCRIPTION:Yard waste in Areas B &amp; C (and D) will be collected on Saturday, May 30th.
X-ALT-DESC;FMTTYPE=text/html:Yard waste in Areas B &amp; C (and D) will be collected on Saturday, May 30th.
LOCATION:
CLASS:PUBLIC
END:VEVENT
END:VCALENDAR
