BEGIN:VCALENDAR
VERSION:2.0
PRODID:Upper Dublin, PA Calendar Creator
METHOD:PUBLISH
BEGIN:VEVENT
DTSTAMP:20260120T134722
DTSTART:20260530T000000
DTEND:20260530T235900
SUMMARY:Monday's & Wednesday's Rescheduled Yard Waste Collections
DESCRIPTION:Yard Waste collections for areas B, C &amp; D.
X-ALT-DESC;FMTTYPE=text/html:Yard Waste collections for areas B, C &amp; D.
LOCATION:
CLASS:PUBLIC
END:VEVENT
END:VCALENDAR
