BEGIN:VCALENDAR
VERSION:2.0
PRODID:Upper Dublin, PA Calendar Creator
METHOD:PUBLISH
BEGIN:VEVENT
DTSTAMP:20260120T140001
DTSTART:20260703T000000
DTEND:20260703T235900
SUMMARY:Independence Day (Observed) - Township Offices Closed
DESCRIPTION:<p>Trash &amp; Recycling in area D will be collected on Wednesday, July 1st.</p>
X-ALT-DESC;FMTTYPE=text/html:<p>Trash &amp; Recycling in area D will be collected on Wednesday, July 1st.</p>
LOCATION:
CLASS:PUBLIC
END:VEVENT
END:VCALENDAR
