BEGIN:VCALENDAR
VERSION:2.0
PRODID:Upper Dublin, PA Calendar Creator
METHOD:PUBLISH
BEGIN:VEVENT
DTSTAMP:20260120T140124
DTSTART:20260701T000000
DTEND:20260701T235900
SUMMARY:No Yard Waste Collections (Moved to Saturday, 6/27)
DESCRIPTION:Yard waste in Areas B &amp; C will be collected on <strong>Saturday, June 27th.</strong>
X-ALT-DESC;FMTTYPE=text/html:Yard waste in Areas B &amp; C will be collected on <strong>Saturday, June 27th.</strong>
LOCATION:
CLASS:PUBLIC
END:VEVENT
END:VCALENDAR
