BEGIN:VCALENDAR
VERSION:2.0
PRODID:Upper Dublin, PA Calendar Creator
METHOD:PUBLISH
BEGIN:VEVENT
DTSTAMP:20260120T140445
DTSTART:20260627T000000
DTEND:20260627T235900
SUMMARY:Wednesday's (7/1) Rescheduled Yard Waste Collections
DESCRIPTION:Yard Waste in Areas B &amp; C will be collected on Saturday, June 27, <strong>instead of Wednesday, July 1.</strong>
X-ALT-DESC;FMTTYPE=text/html:Yard Waste in Areas B &amp; C will be collected on Saturday, June 27, <strong>instead of Wednesday, July 1.</strong>
LOCATION:
CLASS:PUBLIC
END:VEVENT
END:VCALENDAR
