BEGIN:VCALENDAR
VERSION:2.0
PRODID:Upper Dublin, PA Calendar Creator
METHOD:PUBLISH
BEGIN:VEVENT
DTSTAMP:20260120T142601
DTSTART:20270118T000000
DTEND:20270118T235900
SUMMARY:Martin Luther King, Jr. Day - Township Offices Closed
DESCRIPTION:Trash &amp; Recycling in Area A will be collected on Wednesday, January 20th.
X-ALT-DESC;FMTTYPE=text/html:Trash &amp; Recycling in Area A will be collected on Wednesday, January 20th.
LOCATION:
CLASS:PUBLIC
END:VEVENT
END:VCALENDAR
