BEGIN:VCALENDAR
VERSION:2.0
PRODID:Upper Dublin, PA Calendar Creator
METHOD:PUBLISH
BEGIN:VEVENT
DTSTAMP:20260317T100257
DTSTART:20260418T093000
DTEND:20260418T120000
SUMMARY:EPAB's 5th Annual Environmental Open House
DESCRIPTION:<p>Join the UDT&nbsp;Environmental Protection Advisory Board for its 5th Annual</p><h3>Environmental Open House</h3><p>Date: Saturday, April 18<br>Time: 9:30 a.m. - 12:00 p.m.<br>Location: Upper Dublin Township Building (801 Loch Alsh Avenue, Fort Washington)</p><p><strong>Presentations: 10:00am - 11:00am</strong></p><ul>    <li>Construction of the Net-Zero Township Building</li>    <li>Designing Energy-Efficient Buildings, including the Township Building</li>    <li>Residential Energy Audits</li>    <li>Use of Batteries with Residential Solar</li>    <li>Enhance the Ecological Value of your Landscapes</li>    <li>BioBlitz at Twining Valley Park</li>    <li>Upper Dublin High School - Salt Watch Program</li>    <li>Lower Merion’s Gas-Powered Leaf Blower Ordinance</li>    <li>Upper Dublin Parks &amp; Recreation - Community Connections</li></ul><p><strong>Table Displays &amp; Demos from 9:30 a.m. - 10:00 a.m. and 11:00 a.m. - 12:00 p.m.</strong></p><p> <span style="text-decoration: underline;">Energy &amp; Sustainability</span></p><ul>    <li>PECO - Home energy audits</li>    <li>Practical Energy Solutions - Energy audits &amp; energy conservation</li></ul><p><span style="text-decoration: underline;">Clean Technology &amp; Renewable Energy</span></p><ul>    <li>Butterfly Energy - Solar panels and power for residences</li></ul><p direction-ltr="" align-start="" para-style-body"=""><span style="text-decoration: underline;">Community &amp; Environmental Initiatives</span></p><ul>    <li>Bird Town/Woman’s Farm &amp; Garden</li>    <li>Journeywork - Landscape Design</li>    <li>Lower Merion EAC</li>    <li>Temple University Ambler Campus</li>    <li>Upper Dublin Library/Maple Glen Garden Club - Seed Library</li>    <li>Upper Dublin High School - Environmental Projects</li>    <li>UDT EPAB Initiatives – Local Sustainability Efforts</li>    <li>Wissahickon Trails – Connecting with Nature</li></ul><p>Questions about this event should be directed to Eric Lindhult at <a href="mailto:&#101;&#114;&#105;&#99;&#46;&#108;&#105;&#110;&#100;&#104;&#117;&#108;&#116;&#64;&#103;&#109;&#97;&#105;&#108;&#46;&#99;&#111;&#109;">eric.lindhult@gmail.com</a></p><p>&nbsp;</p>
X-ALT-DESC;FMTTYPE=text/html:<p>Join the UDT&nbsp;Environmental Protection Advisory Board for its 5th Annual</p><h3>Environmental Open House</h3><p>Date: Saturday, April 18<br>Time: 9:30 a.m. - 12:00 p.m.<br>Location: Upper Dublin Township Building (801 Loch Alsh Avenue, Fort Washington)</p><p><strong>Presentations: 10:00am - 11:00am</strong></p><ul>    <li>Construction of the Net-Zero Township Building</li>    <li>Designing Energy-Efficient Buildings, including the Township Building</li>    <li>Residential Energy Audits</li>    <li>Use of Batteries with Residential Solar</li>    <li>Enhance the Ecological Value of your Landscapes</li>    <li>BioBlitz at Twining Valley Park</li>    <li>Upper Dublin High School - Salt Watch Program</li>    <li>Lower Merion’s Gas-Powered Leaf Blower Ordinance</li>    <li>Upper Dublin Parks &amp; Recreation - Community Connections</li></ul><p><strong>Table Displays &amp; Demos from 9:30 a.m. - 10:00 a.m. and 11:00 a.m. - 12:00 p.m.</strong></p><p> <span style="text-decoration: underline;">Energy &amp; Sustainability</span></p><ul>    <li>PECO - Home energy audits</li>    <li>Practical Energy Solutions - Energy audits &amp; energy conservation</li></ul><p><span style="text-decoration: underline;">Clean Technology &amp; Renewable Energy</span></p><ul>    <li>Butterfly Energy - Solar panels and power for residences</li></ul><p direction-ltr="" align-start="" para-style-body"=""><span style="text-decoration: underline;">Community &amp; Environmental Initiatives</span></p><ul>    <li>Bird Town/Woman’s Farm &amp; Garden</li>    <li>Journeywork - Landscape Design</li>    <li>Lower Merion EAC</li>    <li>Temple University Ambler Campus</li>    <li>Upper Dublin Library/Maple Glen Garden Club - Seed Library</li>    <li>Upper Dublin High School - Environmental Projects</li>    <li>UDT EPAB Initiatives – Local Sustainability Efforts</li>    <li>Wissahickon Trails – Connecting with Nature</li></ul><p>Questions about this event should be directed to Eric Lindhult at <a href="mailto:&#101;&#114;&#105;&#99;&#46;&#108;&#105;&#110;&#100;&#104;&#117;&#108;&#116;&#64;&#103;&#109;&#97;&#105;&#108;&#46;&#99;&#111;&#109;">eric.lindhult@gmail.com</a></p><p>&nbsp;</p>
LOCATION:Upper Dublin Municipal Complex\, 801 Loch Alsh Avenue Fort Washington\, Pennsylvania 19034
CLASS:PUBLIC
END:VEVENT
END:VCALENDAR
