BEGIN:VCALENDAR
VERSION:2.0
PRODID:Upper Dublin, PA Calendar Creator
METHOD:PUBLISH
BEGIN:VEVENT
DTSTAMP:20260317T072323
DTSTART:20260603T140000
DTEND:20260603T150000
SUMMARY:Online Author: Mary Savig
DESCRIPTION:<p><strong>Dates: </strong>Wednesday 6/3<br><strong>Time:</strong>&nbsp;2-3p<br><span style="font-size: 1.125rem;"></span><strong style="font-size: 1.125rem;">Age Group:&nbsp;</strong><span style="font-size: 1.125rem;">Adult</span></p><p><strong>Program Location:</strong>&nbsp;Online</p><p><strong>Registration:</strong><a href="https://libraryc.org/upperdublinlibrary/15704" target="_blank" rel="noopener">&nbsp;</a><strong><a href="https://libraryc.org/upperdublinlibrary/160967" target="_blank" rel="noopener">Register &amp; Submit Author Questions HERE.</a></strong></p><p><strong>Description:&nbsp;<br></strong><span style="font-size: 1.125rem;">Join us for a fascinating discussion with Smithsonian Curator Mary Savig on the history and significance of craft at state fairs—from blue-ribbon quilts to sculpted butter cows, and so much more!</span></p><p>A Dolly Parton crop art portrait. Size-96 cowboy boots. A button quilt.&nbsp;<em>State Fairs: Growing American Craft&nbsp;</em>features more than 100 photos of extraordinary and unconventional crafts from state and tribal fairs, including needlework, basketry, jewelry, ceramics, crop art, butter sculpture, and saddles. The catalog highlights personal stories and regional and cultural traditions, creating a vibrant portrait of American life. Come one, come all!&nbsp;<em>State Fairs&nbsp;</em>has a little something for everyone.</p><p>Register now to hear about the fascinating (and often surprising) world of American state fair crafts!</p><p><strong style="font-size: 1.125rem;">Author Bio:<br></strong><span style="font-size: 1.125rem;">Mary Savig is The Fleur and Charles Bresler Curator-in-Charge of the Smithsonian American Art Museum’s Renwick Gallery. She holds a PhD in American Studies from the University of Maryland, College Park.</span></p><p>&nbsp;<strong style="font-size: 1.125rem;">Registration:<a href="https://libraryc.org/upperdublinlibrary/160967" target="_blank" rel="noopener">&nbsp;<strong>Register &amp; Submit Author Questions HERE.</strong></a></strong></p><hr><p>UDPL's Distinguished Author Series - Bestselling authors share their books with you in a live, virtual forum. Real-time Q&amp;A. Participate from anywhere you can connect. This series is generously sponsored by the Friends of UDPL with support from the Robert V. Stutz Distinguished Authors Fund.</p><p>This series is presented in collaboration with the Library Speakers Consortium.</p>
X-ALT-DESC;FMTTYPE=text/html:<p><strong>Dates: </strong>Wednesday 6/3<br><strong>Time:</strong>&nbsp;2-3p<br><span style="font-size: 1.125rem;"></span><strong style="font-size: 1.125rem;">Age Group:&nbsp;</strong><span style="font-size: 1.125rem;">Adult</span></p><p><strong>Program Location:</strong>&nbsp;Online</p><p><strong>Registration:</strong><a href="https://libraryc.org/upperdublinlibrary/15704" target="_blank" rel="noopener">&nbsp;</a><strong><a href="https://libraryc.org/upperdublinlibrary/160967" target="_blank" rel="noopener">Register &amp; Submit Author Questions HERE.</a></strong></p><p><strong>Description:&nbsp;<br></strong><span style="font-size: 1.125rem;">Join us for a fascinating discussion with Smithsonian Curator Mary Savig on the history and significance of craft at state fairs—from blue-ribbon quilts to sculpted butter cows, and so much more!</span></p><p>A Dolly Parton crop art portrait. Size-96 cowboy boots. A button quilt.&nbsp;<em>State Fairs: Growing American Craft&nbsp;</em>features more than 100 photos of extraordinary and unconventional crafts from state and tribal fairs, including needlework, basketry, jewelry, ceramics, crop art, butter sculpture, and saddles. The catalog highlights personal stories and regional and cultural traditions, creating a vibrant portrait of American life. Come one, come all!&nbsp;<em>State Fairs&nbsp;</em>has a little something for everyone.</p><p>Register now to hear about the fascinating (and often surprising) world of American state fair crafts!</p><p><strong style="font-size: 1.125rem;">Author Bio:<br></strong><span style="font-size: 1.125rem;">Mary Savig is The Fleur and Charles Bresler Curator-in-Charge of the Smithsonian American Art Museum’s Renwick Gallery. She holds a PhD in American Studies from the University of Maryland, College Park.</span></p><p>&nbsp;<strong style="font-size: 1.125rem;">Registration:<a href="https://libraryc.org/upperdublinlibrary/160967" target="_blank" rel="noopener">&nbsp;<strong>Register &amp; Submit Author Questions HERE.</strong></a></strong></p><hr><p>UDPL's Distinguished Author Series - Bestselling authors share their books with you in a live, virtual forum. Real-time Q&amp;A. Participate from anywhere you can connect. This series is generously sponsored by the Friends of UDPL with support from the Robert V. Stutz Distinguished Authors Fund.</p><p>This series is presented in collaboration with the Library Speakers Consortium.</p>
LOCATION:Online\, 
CLASS:PUBLIC
END:VEVENT
END:VCALENDAR
