BEGIN:VCALENDAR
VERSION:2.0
PRODID:Upper Dublin, PA Calendar Creator
METHOD:PUBLISH
BEGIN:VEVENT
DTSTAMP:20260325T091822
DTSTART:20260514T130000
DTEND:20260514T140000
SUMMARY:Friends of UDPL Monthly Meeting
DESCRIPTION:<p><strong>Date:</strong>&nbsp;2nd Thursday of the Month</p><p><strong>Time:</strong>&nbsp;1p</p><p><strong>Program Format:</strong>&nbsp;In-Person in the Library Classroom</p><p><strong>Description:</strong>&nbsp;Open to the public. Come to this meeting of the Friends of UDPL and see what we’re about!</p><p><b>Registration:&nbsp;</b>There is no registration necessary if you are attending in-person.&nbsp;<a href="https://udpl.typeform.com/to/FbQqQeiM" target="_blank" rel="noopener"><strong>If you would like to attend the meeting via Zoom, please fill out this form and the Zoom details will be emailed to you.</strong></a></p><p><strong><span style="color: rgb(0, 176, 80);">*PLEASE NOTE* – If you have previously registered for the Zoom details, the Zoom meeting and passcode are the same for every meeting. If you have misplaced your previous registration email confirmation, please use the link above to register again.</span></strong></p><p><strong>Please contact Molly Kane at&nbsp;<a href="mailto:mkane@mclinc.org" target="_blank" rel="noopener">mkane@mclinc.org</a>&nbsp;with any questions regarding attending the Friends of UDPL Monthly Meeting.</strong></p><p><strong>&nbsp;</strong><span style="font-size: 1.125rem;"><em>Upper Dublin Library strives to make our programs accessible for all. For reasonable accommodations, please contact the library at 215-628-8744 or&nbsp;<a href="mailto:&#117;&#112;&#112;&#101;&#114;&#100;&#117;&#98;&#108;&#105;&#110;&#108;&#105;&#98;&#114;&#97;&#114;&#121;&#64;&#109;&#99;&#108;&#105;&#110;&#99;&#46;&#111;&#114;&#103;">upperdublinlibrary@mclinc.org</a>.</em></span></p><p><strong><hr></strong></p><p><a href="https://upper3.prod-as.govaccess.org/home/showpublisheddocument/3619/638929023150530000" target="_blank" rel="noopener"><span style="color: rgb(0, 112, 192);"><strong>Friends of UDPL Monthly Meeting Agenda - December 2025</strong></span></a></p>
X-ALT-DESC;FMTTYPE=text/html:<p><strong>Date:</strong>&nbsp;2nd Thursday of the Month</p><p><strong>Time:</strong>&nbsp;1p</p><p><strong>Program Format:</strong>&nbsp;In-Person in the Library Classroom</p><p><strong>Description:</strong>&nbsp;Open to the public. Come to this meeting of the Friends of UDPL and see what we’re about!</p><p><b>Registration:&nbsp;</b>There is no registration necessary if you are attending in-person.&nbsp;<a href="https://udpl.typeform.com/to/FbQqQeiM" target="_blank" rel="noopener"><strong>If you would like to attend the meeting via Zoom, please fill out this form and the Zoom details will be emailed to you.</strong></a></p><p><strong><span style="color: rgb(0, 176, 80);">*PLEASE NOTE* – If you have previously registered for the Zoom details, the Zoom meeting and passcode are the same for every meeting. If you have misplaced your previous registration email confirmation, please use the link above to register again.</span></strong></p><p><strong>Please contact Molly Kane at&nbsp;<a href="mailto:mkane@mclinc.org" target="_blank" rel="noopener">mkane@mclinc.org</a>&nbsp;with any questions regarding attending the Friends of UDPL Monthly Meeting.</strong></p><p><strong>&nbsp;</strong><span style="font-size: 1.125rem;"><em>Upper Dublin Library strives to make our programs accessible for all. For reasonable accommodations, please contact the library at 215-628-8744 or&nbsp;<a href="mailto:&#117;&#112;&#112;&#101;&#114;&#100;&#117;&#98;&#108;&#105;&#110;&#108;&#105;&#98;&#114;&#97;&#114;&#121;&#64;&#109;&#99;&#108;&#105;&#110;&#99;&#46;&#111;&#114;&#103;">upperdublinlibrary@mclinc.org</a>.</em></span></p><p><strong><hr></strong></p><p><a href="https://upper3.prod-as.govaccess.org/home/showpublisheddocument/3619/638929023150530000" target="_blank" rel="noopener"><span style="color: rgb(0, 112, 192);"><strong>Friends of UDPL Monthly Meeting Agenda - December 2025</strong></span></a></p>
LOCATION:Library Classroom - 205\, 
CLASS:PUBLIC
END:VEVENT
END:VCALENDAR
